BEGIN:VCALENDAR
VERSION:2.0
PRODID:-//TotalExpo.ru v1.0//EN
BEGIN:VEVENT
DTSTAMP:20261014T120000
DTSTART:20261014T070000Z
DTEND:20261016T140000Z
SUMMARY:Aquatherm Baku 2026 (Баку, Азербайджан)
DESCRIPTION:Aquatherm Baku - являясь значимым событием Азербайджана и всего Кавказского региона для демонстрации профессиональных решений HVACR индустрии, ежегодно собирает на одной площадке профессионалов и специалистов из многих стран мира, предоставляя неограниченные возможности для установления деловых связей, поиска партнеров, конструктивного обмена идеями и опытом, знакомства с инновациями и достижениями отрасли. Выставка представляет несомненный интерес, как для компаний стран СНГ, так и для зарубежных предприятий и способствует расширению международного сотрудничества и заключению взаимовыгодных контрактов.
LOCATION:Баку Экспо Центр (Азербайджан, Баку)
END:VEVENT
END:VCALENDAR