BEGIN:VCALENDAR
VERSION:2.0
PRODID:-//TotalExpo.ru v1.0//EN
BEGIN:VEVENT
DTSTAMP:20261014T120000
DTSTART:20261014T070000Z
DTEND:20261016T140000Z
SUMMARY:BakuBuild 2026 (Баку, Азербайджан)
DESCRIPTION:BakuBuild – важнейшее профессиональное событие в области строительства и архитектуры, проектирования и ремонта, а также главная площадка для обсуждения наиболее острых вопросов ведения строительного бизнеса в Азербайджане.
LOCATION:Баку Экспо Центр (Азербайджан, Баку)
END:VEVENT
END:VCALENDAR