BEGIN:VCALENDAR
VERSION:2.0
PRODID:-//TotalExpo.ru v1.0//EN
BEGIN:VEVENT
DTSTAMP:20260922T120000
DTSTART:20260922T070000Z
DTEND:20260925T140000Z
SUMMARY:Аккорды дачного сезона 2026 (Санкт-Петербург, Россия)
DESCRIPTION:На выставке-ярмарке можно подобрать дачную и садовую мебель, ландшафтную керамику, посадочные материалы из питомников Северо-Западного региона и частных коллекционеров, приобрести садово-огородный инвентарь, одежду и обувь для работы в саду и многое другое. На выставке будут представлены натуральные фермерские продукты, мед и сладости.
LOCATION:Forum, ТК (Россия, Санкт-Петербург)
END:VEVENT
END:VCALENDAR