BEGIN:VCALENDAR
VERSION:2.0
PRODID:-//TotalExpo.ru v1.0//EN
BEGIN:VEVENT
DTSTAMP:20261104T120000
DTSTART:20261104T070000Z
DTEND:20261108T140000Z
SUMMARY:КРАСОТА И ЗДОРОВЬЕ (осень) 2026 (Санкт-Петербург, Россия)
DESCRIPTION:Товары для здоровья и красоты на природной основе <br/>
На выставке будут представлены товары и продукция  косметических фирм-производителей, оздоровительная продукция на натуральной основе, товары для поддержания здоровья (массажное оборудование, ортопедические товары и др.), также одежда из экологического сырья, авторские коллекции украшений и аксессуары из натуральных материалов, дизайнерская одежда, продукты для здорового образа жизни.

LOCATION:Forum, ТК (Россия, Санкт-Петербург)
END:VEVENT
END:VCALENDAR