BEGIN:VCALENDAR
VERSION:2.0
PRODID:-//TotalExpo.ru v1.0//EN
BEGIN:VEVENT
DTSTAMP:20261118T120000
DTSTART:20261118T070000Z
DTEND:20261120T140000Z
SUMMARY:Инновационный потенциал Уфы 2026 (Уфа, Россия)
DESCRIPTION:Основная цель выставки – поиск эффективных решений повышения конкурентоспособности предприятий города и региона, эффективных механизмов стимулирования импортозамещения, а также привлечения инвестиций.
LOCATION:Выставочный комплекс «ЭКСПО» (Россия, Уфа)
END:VEVENT
END:VCALENDAR