BEGIN:VCALENDAR
VERSION:2.0
PRODID:-//TotalExpo.ru v1.0//EN
BEGIN:VEVENT
DTSTAMP:20261118T120000
DTSTART:20261118T070000Z
DTEND:20261122T140000Z
SUMMARY:Зимний салон 2026 (Белгород, Россия)
DESCRIPTION:Основная цель выставки - расширение торгово–экономических связей, установление деловых контактов между производителями и потребителями, насыщение потребительского рынка, продвижение на внутренний и внешний рынки конкурентоспособных товаров регионов Российской Федерации и стран ближнего зарубежья, создание оптимальных условий для заключения взаимовыгодных договоров между экспонентами и посетителями.
LOCATION:Белэкспоцентр, ВКК (Россия, Белгород)
END:VEVENT
END:VCALENDAR