BEGIN:VCALENDAR
VERSION:2.0
PRODID:-//TotalExpo.ru v1.0//EN
BEGIN:VEVENT
DTSTAMP:20260610T120000
DTSTART:20260610T070000Z
DTEND:20260612T140000Z
SUMMARY:IAAPA Expo Asia 2026 (Гонконг, Китай)
DESCRIPTION:Проводимая с 1997 года, ежегодная IAAPA Expo Asia (ранее - Asian Attractions Expo) является крупнейшей выставкой индустрии аттракционов в Азии, проходящей в разных странах региона.На выставке будут представлены компании представляющие все сегменты отрасли из более чем 65 стран мира.
LOCATION:Hong Kong Convention & Exhibition Centre (Китай, Гонконг)
END:VEVENT
END:VCALENDAR