BEGIN:VCALENDAR
VERSION:2.0
PRODID:-//TotalExpo.ru v1.0//EN
BEGIN:VEVENT
DTSTAMP:20260527T120000
DTSTART:20260527T070000Z
DTEND:20260529T140000Z
SUMMARY:Дентима Краснодар 2026 (Краснодар, Россия)
DESCRIPTION:«Дентима Краснодар» - одна из крупнейших стоматологических выставок в России. На выставке представлен широкий выбор новейших материалов, инструментов и оборудования для зуботехнических лабораторий, челюстно-лицевой хирургии, костной пластики, стоматологических услуг. Деловая программа выставки насыщена семинарами, лекциями и мастер-классами от ведущих российских и зарубежных специалистов.
LOCATION:Экспоград Юг (Россия, Краснодар)
END:VEVENT
END:VCALENDAR