BEGIN:VCALENDAR
VERSION:2.0
PRODID:-//TotalExpo.ru v1.0//EN
BEGIN:VEVENT
DTSTAMP:20260505T120000
DTSTART:20260505T070000Z
DTEND:20260508T140000Z
SUMMARY:HORECA Caspian 2026 (Баку, Азербайджан)
DESCRIPTION:Выставка объединяет производителей и поставщиков оборудования, технологий и услуг для Отелей, Ресторанов и Супермаркетов. Это профессиональная площадка для демонстрации новинок, поиска партнёров и развития бизнеса в Азербайджане и странах региона.
LOCATION:Баку Экспо Центр (Азербайджан, Баку)
END:VEVENT
END:VCALENDAR