BEGIN:VCALENDAR
VERSION:2.0
PRODID:-//TotalExpo.ru v1.0//EN
BEGIN:VEVENT
DTSTAMP:20260422T120000
DTSTART:20260422T070000Z
DTEND:20260424T140000Z
SUMMARY:Винорус.Винотех 2026 (Краснодар, Россия)
DESCRIPTION:«Винорус.Винотех» (ранее Vinorus) - представляет весь спектр оборудования, технологий и материалов для виноградарства и виноделия одновременно с готовым продуктом в рамках одного мероприятия. Данный формат позволяет всем участникам винного рынка – производителям, поставщикам, дистрибьюторам, ритейлерам, HoReCa – наиболее эффективно взаимодействовать и решать, как производственные задачи, так и весь комплекс вопросов сбыта, закупок, продвижения и популяризации продукта.  <br/> В рамках выставки ежегодно проходит дегустационный конкурс «Винорус», по итогам которого состоится обсуждение результатов с участием известных членов жюри, также форум «Экономика российского вина» и другие отраслевые мероприятия. <br/> В 2025 году в выставке приняли участие 112 компаний из России, стран ближнего и дальнего зарубежья. Выставки «Винорус. Винотех», Foodtech Krasnodar, Interfood Krasnodar собрали 5 419 целевых посетителей, из них 2 674 — профильные посетители винодельческой экспозиции
LOCATION:Экспоград Юг (Россия, Краснодар)
END:VEVENT
END:VCALENDAR