BEGIN:VCALENDAR
VERSION:2.0
PRODID:-//TotalExpo.ru v1.0//EN
BEGIN:VEVENT
DTSTAMP:20260527T120000
DTSTART:20260527T070000Z
DTEND:20260529T140000Z
SUMMARY:МЕДЭКСПО Поволжье 2026 (Самара, Россия)
DESCRIPTION:Выставка предназначена содействовать производителям и дистрибьюторам в области медицины в продвижении и реализации медицинского оборудования, расходных материалов, IT-технологий и другой продукции отрасли; предоставляет возможность диалога с руководителями служб обеспечения медучреждений, специалистов по маркетингу и сбыту, лицами, принимающими решения; дает возможность участия в обширной Деловой программе (лекции, практика, встречи в формате «круглый стол», форумы, конференции, обмен опытом).
LOCATION:Экспо-Волга, ВЦ (Россия, Самара)
END:VEVENT
END:VCALENDAR