BEGIN:VCALENDAR
VERSION:2.0
PRODID:-//TotalExpo.ru v1.0//EN
BEGIN:VEVENT
DTSTAMP:20261014T120000
DTSTART:20261014T070000Z
DTEND:20261018T140000Z
SUMMARY:Иван-да-Марья 2026 (Екатеринбург, Россия)
DESCRIPTION:Фестиваль мастеров "Иван-да-Марья" — уникальное мероприятие с национальным колоритом. Оно направлено на возрождение традиций народного искусства и поддержку отечественных производителей. Именно здесь появляется возможность приобрести уникальные изделия ручной работы: украшения, посуду, сувениры и подарки, авторскую одежду и обувь, предметы интерьера и мебель, изделия из серебра и натуральной кожи, и многое-многое другое.<br/>Мероприятие соберёт более 250 мастеров со всей России и станет самым крупным событием с участием представителей народно-художественных промыслов в Свердловской области.
LOCATION:Уральский центр развития дизайна (Россия, Екатеринбург)
END:VEVENT
END:VCALENDAR