BEGIN:VCALENDAR
VERSION:2.0
PRODID:-//TotalExpo.ru v1.0//EN
BEGIN:VEVENT
DTSTAMP:20261027T120000
DTSTART:20261027T070000Z
DTEND:20261029T140000Z
SUMMARY:Рудник 2026 (Екатеринбург, Россия)
DESCRIPTION:Масштабная специализированная выставка технологий, оборудования, спецтехники для добычи, обогащения и транспортировки руд и минералов. Мероприятие является местом прямого контакта и эффективного общения производителей, поставщиков и потребителей оборудования и технологий горнодобывающей отрасли. 
LOCATION:Екатеринбург-Экспо (Россия, Екатеринбург)
END:VEVENT
END:VCALENDAR