BEGIN:VCALENDAR
VERSION:2.0
PRODID:-//TotalExpo.ru v1.0//EN
BEGIN:VEVENT
DTSTAMP:20270211T120000
DTSTART:20270211T070000Z
DTEND:20270213T140000Z
SUMMARY:Образование. Профессия и карьера 2027 (Красноярск, Россия)
DESCRIPTION:Выставка-форум ориентирована на широкую аудиторию – учащихся, студентов, преподавателей, родителей – и затрагивает весь спектр вопросов по формированию траекторий профессионального самоопределения и развития молодежи с учетом квалификационных требований работодателей по востребованным на рынке труда профессиям. Масштабная экспозиция выставки даст возможность абитуриентам и старшим школьникам сориентироваться в многообразии вариантов среднего и высшего образования, наметить направления своего личностного и профессионального роста, пройти психологические и профессиональные пробы, а также познакомиться с требованиями, которые предъявляют учебные заведения к своим студентам, а компании – к своим потенциальным работникам.
LOCATION:Сибирь, МВДЦ (Россия, Красноярск)
END:VEVENT
END:VCALENDAR