BEGIN:VCALENDAR
VERSION:2.0
PRODID:-//TotalExpo.ru v1.0//EN
BEGIN:VEVENT
DTSTAMP:20260603T120000
DTSTART:20260603T070000Z
DTEND:20260607T140000Z
SUMMARY:Junwex Новый Русский Стиль 2026 (Москва, Россия)
DESCRIPTION:Экспозиция «Junwex Новый Русский Стиль», площадь которой занимает 30 000 кв. м, демонстрирует современные возможности отечественной ювелирной промышленности в переработке богатых запасов драгоценного сырья и ее готовность к активной интеграции в мировой рынок украшений.
LOCATION:Тимирязев Центр (Россия, Москва)
END:VEVENT
END:VCALENDAR