BEGIN:VCALENDAR
VERSION:2.0
PRODID:-//TotalExpo.ru v1.0//EN
BEGIN:VEVENT
DTSTAMP:20261216T120000
DTSTART:20261216T070000Z
DTEND:20261220T140000Z
SUMMARY:ЮвелирЭКСПО 2026 (Волгоград, Россия)
DESCRIPTION:Выставка предоставляет возможность заявить о себе как о серьезном игроке ювелирного рынка. В программе выставки: семинары, круглый стол, розыгрыш призов для посетителей, показ ювелирных коллекций.
LOCATION:Выставочный комплекс ЭКСПОЦЕНТР (Россия, Волгоград)
END:VEVENT
END:VCALENDAR