BEGIN:VCALENDAR
VERSION:2.0
PRODID:-//TotalExpo.ru v1.0//EN
BEGIN:VEVENT
DTSTAMP:20250723T120000
DTSTART:20250723T070000Z
DTEND:20250726T140000Z
SUMMARY:ARCHIDEX 2025 (Куала-Лумпур, Малайзия)
DESCRIPTION:Выставка архитектуры, дизайна интерьера и строительства. ARCHIDEX - крупнейшая ежегодная торговая выставка в Малайзии. Это событие является прекрасной возможностью для того, чтобы увидеть широкий ассортимент продукции предназначенный специально для архитектуры и строительной индустрии.
LOCATION:Kuala Lumpur Convention Centre (Малайзия, Куала-Лумпур)
END:VEVENT
END:VCALENDAR