BEGIN:VCALENDAR
VERSION:2.0
PRODID:-//TotalExpo.ru v1.0//EN
BEGIN:VEVENT
DTSTAMP:20260518T120000
DTSTART:20260518T070000Z
DTEND:20260520T140000Z
SUMMARY:ITEX 2026 (Куала-Лумпур, Малайзия)
DESCRIPTION:Международная выставка изобретений, инноваций и новейших технологий в различных сферах и отраслях.
LOCATION:Kuala Lumpur Convention Centre (Малайзия, Куала-Лумпур)
END:VEVENT
END:VCALENDAR