BEGIN:VCALENDAR
VERSION:2.0
PRODID:-//TotalExpo.ru v1.0//EN
BEGIN:VEVENT
DTSTAMP:20260422T120000
DTSTART:20260422T070000Z
DTEND:20260424T140000Z
SUMMARY:ДНИ КРАСОТЫ В УФЕ 2026 (Уфа, Россия)
DESCRIPTION:«Дни красоты в Уфе» - это уникальный экспопроект, отражающий все тенденции развития индустрии красоты. В течение трех дней на одной площадке соберутся специалисты в области косметологии и эстетической медицины, ногтевого сервиса, парикмахерского и декоративного искусства, спортивно-оздоровительных услуг и спа-индустрии.  По традиции, в рамках выставки проходит открытый городской конкурс парикмахерского и декоративного искусства «Золотая куница». В деловой программе для специалистов планируются круглые столы и практические кейсы. Открытые лекции. Дефиле и шоу-показы. Стендовые мастер-классы.  
LOCATION:Выставочный комплекс «ЭКСПО» (Россия, Уфа)
END:VEVENT
END:VCALENDAR