BEGIN:VCALENDAR
VERSION:2.0
PRODID:-//TotalExpo.ru v1.0//EN
BEGIN:VEVENT
DTSTAMP:20261211T120000
DTSTART:20261211T070000Z
DTEND:20261213T140000Z
SUMMARY:Уфа-Арт. Ремесла. Сувениры 2026 (Уфа, Россия)
DESCRIPTION:Крупнейшая выставка народных художественных промыслов в Республике Башкортостан. Основные участники выставки-фестиваля - это мастера декоративно-прикладного искусства, ремесленники, производители сувенирной продукции, художники, галеристы, профильные учебные заведения.
LOCATION:Выставочный комплекс «ЭКСПО» (Россия, Уфа)
END:VEVENT
END:VCALENDAR