BEGIN:VCALENDAR
VERSION:2.0
PRODID:-//TotalExpo.ru v1.0//EN
BEGIN:VEVENT
DTSTAMP:20261111T120000
DTSTART:20261111T070000Z
DTEND:20261113T140000Z
SUMMARY:Ростов Гостеприимный 2026 (Ростов-на-Дону, Россия)
DESCRIPTION:Это крупнейший проект Донского региона для специалистов пищевой промышленности и покупателей продуктов питания. Ежегодно в выставке принимают участие ведущие компании-производители и поставщики продуктов питания и напитков, а также крупнейшие российские агрохолдинги. Помимо этого представлены участники в разделах холодильного, пищевого, перерабатывающего, упаковочного, складского оборудования, упаковки, сырья и материалов для ее производства, компании по проектированию, производству, монтажу и автоматизации технологических линий.
LOCATION:ДонЭкспоцентр, КВЦ (Россия, Ростов-на-Дону)
END:VEVENT
END:VCALENDAR