BEGIN:VCALENDAR
VERSION:2.0
PRODID:-//TotalExpo.ru v1.0//EN
BEGIN:VEVENT
DTSTAMP:20261022T120000
DTSTART:20261022T070000Z
DTEND:20261025T140000Z
SUMMARY:Арт-Красноярск 2026 (Красноярск, Россия)
DESCRIPTION:Выставка дает возможность познакомить посетителей со своими работами, поделиться опытом, найти поддержку у меценатов, приобрести материалы для дальнейшего творчества, реализовать свои работы.
LOCATION:Сибирь, МВДЦ (Россия, Красноярск)
END:VEVENT
END:VCALENDAR