BEGIN:VCALENDAR
VERSION:2.0
PRODID:-//TotalExpo.ru v1.0//EN
BEGIN:VEVENT
DTSTAMP:20260701T120000
DTSTART:20260701T070000Z
DTEND:20260702T140000Z
SUMMARY:Развитие и повышение надежности распределительных электрических сетей 2026 (Москва, Россия)
DESCRIPTION:Задачами конференции являются не только обмен передовым опытом и знаниями, но и формулировка предложений для дальнейшего повышения надежности и эффективности деятельности распределительного сетевого комплекса.<br/>Конференцию будет сопровождать Техническая выставка «ЭЭПиР», на которой инновационные компании представят передовые технические решения для электросетевого комплекса.
LOCATION:Центр Международной Торговли (ЦМТ) (Россия, Москва)
END:VEVENT
END:VCALENDAR