BEGIN:VCALENDAR
VERSION:2.0
PRODID:-//TotalExpo.ru v1.0//EN
BEGIN:VEVENT
DTSTAMP:20260930T120000
DTSTART:20260930T070000Z
DTEND:20261002T140000Z
SUMMARY:БелгородАгро 2026 (Белгород, Россия)
DESCRIPTION:Основная цель выставки - привлечение в регион новейших достижений АПК, установление и укрепление деловых контактов между товаропроизводителями Белгородской области и регионов России, Беларуси, Украины, других стран СНГ и дальнего зарубежья, продвижение товаров и услуг предприятий агропромышленного сектора области на российский и зарубежный рынки, укрепление потребительского рынка Центрально-федерального округа, привлечение деловых партнеров в регион.
LOCATION:Белэкспоцентр, ВКК (Россия, Белгород)
END:VEVENT
END:VCALENDAR