BEGIN:VCALENDAR
VERSION:2.0
PRODID:-//TotalExpo.ru v1.0//EN
BEGIN:VEVENT
DTSTAMP:20261111T120000
DTSTART:20261111T070000Z
DTEND:20261113T140000Z
SUMMARY:CleanExpo Kazakhstan 2026 (Алма-Ата, Казахстан)
DESCRIPTION:Центрально-Азиатская специализированная выставка "Чистящие и моющие средства, оборудование для химчисток и прачечных и уборочное оборудование".
LOCATION:Атакент, КЦДС (Казахстан, Алма-Ата)
END:VEVENT
END:VCALENDAR