BEGIN:VCALENDAR
VERSION:2.0
PRODID:-//TotalExpo.ru v1.0//EN
BEGIN:VEVENT
DTSTAMP:20261021T120000
DTSTART:20261021T070000Z
DTEND:20261023T140000Z
SUMMARY:Powerexpo Almaty 2026 (Алма-Ата, Казахстан)
DESCRIPTION:Powerexpo Almaty прочно занимает ведущее место среди мероприятий электротехнической тематики в Центральной Азии, и по праву считается самым масштабным и посещаемым событием в энергетической отрасли Казахстана. Выставка представляет вниманию посетителей полный спектр самого современного оборудования, технологий и услуг для электроэнергетической отрасли.<br/>Ежегодно в выставке принимают участие международные и локальные энергетические компании; мировые производители и поставщики электроэнергетического оборудования, технологий и услуг; предприятия, предоставляющие сервисное обслуживание на энергетических объектах; инжиниринговые и консалтинговые компании.
LOCATION:Атакент, КЦДС (Казахстан, Алма-Ата)
END:VEVENT
END:VCALENDAR