BEGIN:VCALENDAR
VERSION:2.0
PRODID:-//TotalExpo.ru v1.0//EN
BEGIN:VEVENT
DTSTAMP:20260526T120000
DTSTART:20260526T070000Z
DTEND:20260529T140000Z
SUMMARY:Газ. Нефть. Технологии 2026 (Уфа, Россия)
DESCRIPTION:«Газ. Нефть. Технологии» - профессиональный выставочный проект и эффективная площадка для интеграции опыта и установления взаимовыгодных контактов. На выставке традиционно представлен полный цикл топливно-энергетического комплекса - от поиска и разработки недр, до новых технологий переработки, промышленных технологий и оборудования, логистики, инжиниринговых и нефтесервисных услуг. 
LOCATION:Выставочный комплекс «ЭКСПО» (Россия, Уфа)
END:VEVENT
END:VCALENDAR