BEGIN:VCALENDAR
VERSION:2.0
PRODID:-//TotalExpo.ru v1.0//EN
BEGIN:VEVENT
DTSTAMP:20261224T120000
DTSTART:20261224T070000Z
DTEND:20261227T140000Z
SUMMARY:Рождественский Базар 2026 (Сочи, Россия)
DESCRIPTION:Выставка товаров народного потребления. Изделия народных промыслов, предметы интерьера, сувениры. Новогодние и рождественские подарки и украшения. Рождественская атрибутика. Участники выставки точно останутся довольны работой на мероприятии, которое всегда ждут и с удовольствием посещают горожане.
LOCATION:ВЦ ГК Жемчужина (Россия, Сочи)
END:VEVENT
END:VCALENDAR