BEGIN:VCALENDAR
VERSION:2.0
PRODID:-//TotalExpo.ru v1.0//EN
BEGIN:VEVENT
DTSTAMP:20260924T120000
DTSTART:20260924T070000Z
DTEND:20260927T140000Z
SUMMARY:Формула рукоделия Москва. Осень 2026 (Москва, Россия)
DESCRIPTION:Международная выставка-продажа «Формула Рукоделия» является самым главным, масштабным и ярким выставочным мероприятием в сегменте рукоделия и товаров для хобби в России и ближнем зарубежье. На мероприятии будут представлены материалы и инструменты для всех видов рукоделия, наборы для творчества, а также авторские изделия ручной работы, книги, посвященные рукоделию. Широкий ассортимент качественных товаров и услуг продемонстрируют участники – компаний индустрии, творческих объединений и частных мастеров.
LOCATION:Главная сцена (Main Stage) (Россия, Москва)
END:VEVENT
END:VCALENDAR