BEGIN:VCALENDAR
VERSION:2.0
PRODID:-//TotalExpo.ru v1.0//EN
BEGIN:VEVENT
DTSTAMP:20260915T120000
DTSTART:20260915T070000Z
DTEND:20260917T140000Z
SUMMARY:Термообработка 2026 (Москва, Россия)
DESCRIPTION:Международная специализированная выставка оборудования и технологий термообработки материалов.
LOCATION:ВДНХ (Выставка достижений народного хозяйства) (Россия, Москва)
END:VEVENT
END:VCALENDAR