BEGIN:VCALENDAR
VERSION:2.0
PRODID:-//TotalExpo.ru v1.0//EN
BEGIN:VEVENT
DTSTAMP:20260513T120000
DTSTART:20260513T070000Z
DTEND:20260515T140000Z
SUMMARY:Территория NDT. Неразрушающий контроль. Испытания. Диагностика 2026 (Москва, Россия)
DESCRIPTION:Ежегодный Форум «Территория NDT» является ведущей профессиональной площадкой для конструктивного диалога заинтересованных сторон и демонстрации новейших достижений и разработок. Крупнейшая специализированная выставка оборудования и технологий неразрушающего контроля и технической диагностики ежегодно объединяет более 100 компаний – разработчиков и поставщиков российских и зарубежных брендов, сервисные учебные и сертификационные центры, ВУЗы, НИИ, специализированные издания. В настоящее время вопросы надежности функционирования и продления срока службы промышленных объектов становятся все более актуальными. Определяющим требованием заказчика является сочетание различных методов и средств для проведения своевременной и достоверной диагностики. Комплексирование результатов неразрушающего контроля, физико-механических испытаний и анализа структуры, мониторинга состояния, технического диагностирования является надежной основой для обеспечения безопасной эксплуатации и прогнозирования ресурса. В связи с этим, с 2018 года Форум «Территория NDT» называется  «Территория NDT. Неразрушающий контроль. Испытания. Диагностика».
LOCATION:Гостиница Измайлово «Бета» (Россия, Москва)
END:VEVENT
END:VCALENDAR