BEGIN:VCALENDAR
VERSION:2.0
PRODID:-//TotalExpo.ru v1.0//EN
BEGIN:VEVENT
DTSTAMP:20260907T120000
DTSTART:20260907T070000Z
DTEND:20260907T140000Z
SUMMARY:GREEN RETAIL: САДОВЫЙ ЦЕНТР 2026 (Москва, Россия)
DESCRIPTION:Специализированное деловое событие для профессионалов рынка производства и продажи товаров для сада, дачи и загородной жизни. Главная задача мероприятия – предоставить лидерам и участникам «зеленого» рынка практические инструменты для уверенного роста и увеличения доли рынка.<br/>Ядром деловой программы станут практические мастер-классы  ведущих экспертов рынка с  разбором  конкретных задач по блокам: продажи, управление ассортиментом, ценообразование, персонал, логистика, e-comm и нетворкинг.
LOCATION:МВЦ Крокус Экспо (Россия, Москва)
END:VEVENT
END:VCALENDAR