BEGIN:VCALENDAR
VERSION:2.0
PRODID:-//TotalExpo.ru v1.0//EN
BEGIN:VEVENT
DTSTAMP:20250902T120000
DTSTART:20250902T070000Z
DTEND:20250904T140000Z
SUMMARY:World Health Expo Cape Town 2025 (Кейптаун, ЮАР)
DESCRIPTION:Международная выставка и конгресс, посвященные здравоохранению. До 2024 года - Africa Health. Ожидаются около 400 участников из 15 стран мира.
LOCATION:Cape Town International Convention Centre (ЮАР, Кейптаун)
END:VEVENT
END:VCALENDAR