BEGIN:VCALENDAR
VERSION:2.0
PRODID:-//TotalExpo.ru v1.0//EN
BEGIN:VEVENT
DTSTAMP:20260417T120000
DTSTART:20260417T070000Z
DTEND:20260426T140000Z
SUMMARY:Арт-Ростов 2026 (Ростов-на-Дону, Россия)
DESCRIPTION:Выставка-продажа произведений искусства, народного творчества и антиквариата.
LOCATION:ДонЭкспоцентр, КВЦ (Россия, Ростов-на-Дону)
END:VEVENT
END:VCALENDAR