BEGIN:VCALENDAR
VERSION:2.0
PRODID:-//TotalExpo.ru v1.0//EN
BEGIN:VEVENT
DTSTAMP:20261022T120000
DTSTART:20261022T070000Z
DTEND:20261025T140000Z
SUMMARY:Антиквариат 2026 (Санкт-Петербург, Россия)
DESCRIPTION:Петербургский антикварный салон.  В выставке традционно примут участие крупнейшие антикварные магазины и частные коллекционеры Петербурга, Москвы, регионов России и ближнего зарубежья. Среди посетителей выставки не только коллекционеры и антиквары-профессионалы, но и обычные горожане всех возрастов, которые могут ознакомиться с предметами истории не в музейной обстановке, а в непосредственном контакте со старинными вещами и при желании приобрести понравившиеся предметы. 
LOCATION:Инженерная, СК (Россия, Санкт-Петербург)
END:VEVENT
END:VCALENDAR