BEGIN:VCALENDAR
VERSION:2.0
PRODID:-//TotalExpo.ru v1.0//EN
BEGIN:VEVENT
DTSTAMP:20260528T120000
DTSTART:20260528T070000Z
DTEND:20260530T140000Z
SUMMARY:AstanaBuild | СТРОИТЕЛЬНАЯ И ИНТЕРЬЕРНАЯ ВЫСТАВКА 2026 (Астана, Казахстан)
DESCRIPTION:Ведущая строительная и интерьерная выставка в центральном и северном регионах Казахстана с 1999 года. На выставке демонстрируется оборудование и материалы для строительства и оформления интерьеров. Деловая программа насыщена профессиональными конференциями, семинарами, мастер-классами и B2B встречами специалистов.
LOCATION:Экспо, МВЦ (Казахстан, Астана)
END:VEVENT
END:VCALENDAR