BEGIN:VCALENDAR
VERSION:2.0
PRODID:-//TotalExpo.ru v1.0//EN
BEGIN:VEVENT
DTSTAMP:20260428T120000
DTSTART:20260428T070000Z
DTEND:20260430T140000Z
SUMMARY:KIOSH | ВЫСТАВКА ПО ОХРАНЕ ТРУДА И ПРОМЫШЛЕННОЙ БЕЗОПАСНОСТИ 2026 (Астана, Казахстан)
DESCRIPTION:Выставка и конференция по охране труда и промышленной безопасности. Выставка KIOSH - это уникальная возможность представить свою компанию и продемонстрировать новинки оборудования и технологий для обеспечения общественной и промышленной безопасности. Это возможность ознакомиться и изучить деловую активность конкурентов и их продукцию, и услуги, оценить спрос и предложение рынка, заключить выгодные сделки и контракты.<br/> На выставке, будет представлена, большая линейка предметов средств индивидуальной защиты: специальная одежда, фурнитура для специальной одежды, специальная обувь, ткани и материалы для спецодежды, респираторы, каски, очки, перчатки, измерительные приборы, защитные средства для строителей и промышленного альпинизма, системы очистки воздуха, средства коллективной защиты, а также последние достижения данной области.
LOCATION:Экспо, МВЦ (Казахстан, Астана)
END:VEVENT
END:VCALENDAR