BEGIN:VCALENDAR
VERSION:2.0
PRODID:-//TotalExpo.ru v1.0//EN
BEGIN:VEVENT
DTSTAMP:20260916T120000
DTSTART:20260916T070000Z
DTEND:20260918T140000Z
SUMMARY:Kazcomak 2026 (Алма-Ата, Казахстан)
DESCRIPTION:Выставка дорожного и промышленного строительства и коммунальной техники. Крупнейшая специализированная выставка в Казахстане, которая ежегодно собирает на своей площадке международные и ведущие местные компании, производящие технику и оборудование для разработки карьеров, производства асфальта, строительства промышленных объектов, дорожного и жилищно-коммунального строительства, дорожно-ремонтных работ. 
LOCATION:Атакент, КЦДС (Казахстан, Алма-Ата)
END:VEVENT
END:VCALENDAR