BEGIN:VCALENDAR
VERSION:2.0
PRODID:-//TotalExpo.ru v1.0//EN
BEGIN:VEVENT
DTSTAMP:20260916T120000
DTSTART:20260916T070000Z
DTEND:20260918T140000Z
SUMMARY:Mining and Metals Central Asia 2025 (Алма-Ата, Казахстан)
DESCRIPTION:Профессиональная площадка для демонстрации достижений казахстанских и зарубежных производителей оборудования, услуг и разработок в сфере ГМК. Выставка способствует расширению деловых контактов производителей и поставщиков со специалистами горнодобывающих предприятий, горно-обогатительных комбинатов, оптовых торговых компаний и других представителей отрасли.<br/>На площадке размером более 4000 тысяч кв. м. представлены машины, оборудование и технологии для горнодобывающих производств, горно-обогатительных комбинатов, решения для обеспечения безопасности горных работ, цифровизации, автоматизации и многое другое.
LOCATION:Атакент, КЦДС (Казахстан, Алма-Ата)
END:VEVENT
END:VCALENDAR