BEGIN:VCALENDAR
VERSION:2.0
PRODID:-//TotalExpo.ru v1.0//EN
BEGIN:VEVENT
DTSTAMP:20260902T120000
DTSTART:20260902T070000Z
DTEND:20260904T140000Z
SUMMARY:Aquatherm Almaty 2026 (Алма-Ата, Казахстан)
DESCRIPTION:Выставка систем отопления и вентиляции, кондиционирования, водоснабжения, сантехники и бассейнов, саун и СПА. Крупнейшая выставка, представляющая последние разработки, новинки и инновации промышленного и бытового секторов для ОВК и ВК индустрий. Место ежегодной встречи производителей, дилеров, дистрибьюторов, а также главных специалистов отрасли. Идеальный ключ к расширению деловых связей и налаживания новых контактов со всех регионов Казахстана, а также Центральной Азии и СНГ.
LOCATION:Атакент, КЦДС (Казахстан, Алма-Ата)
END:VEVENT
END:VCALENDAR