BEGIN:VCALENDAR
VERSION:2.0
PRODID:-//TotalExpo.ru v1.0//EN
BEGIN:VEVENT
DTSTAMP:20260520T120000
DTSTART:20260520T070000Z
DTEND:20260522T140000Z
SUMMARY:KIHE | Здравоохранение 2026 (Алма-Ата, Казахстан)
DESCRIPTION:Выставка «Здравоохранение» - KIHE является самой крупной демонстрационной площадкой достижений в области научной и практической медицины и фармацевтики в Центральной Азии и ежегодно объединяет врачей различных специальностей, фармацевтов, представителей власти и бизнеса из разных стран.<br> Параллельно с выставкой проходят международные форумы, конференции, круглые столы и мастер классы с участием представителей государственных органов, бизнесменов, руководителей медицинских учреждений и фармацевтических предприятий. <br> 
LOCATION:Атакент, КЦДС (Казахстан, Алма-Ата)
END:VEVENT
END:VCALENDAR