BEGIN:VCALENDAR
VERSION:2.0
PRODID:-//TotalExpo.ru v1.0//EN
BEGIN:VEVENT
DTSTAMP:20270311T120000
DTSTART:20270311T070000Z
DTEND:20270314T140000Z
SUMMARY:Шарм 2027 (Ростов-на-Дону, Россия)
DESCRIPTION:Крупнейшая южно-российская выставка индустрии красоты. Проект является ведущей площадкой для демонстрации новинок косметической продукции, коммуникации специалистов отрасли и повышения профессионального опыта сотрудников. <br/> Экспозиция представит самое современное оснащение для парикмахерских, салонов красоты, спа-центров, соляриев и клиник; аппараты и расходные материалы для ногтевого сервиса, профессиональную и декоративную косметику, медицинские приборы и препараты, популярные салонные услуги и многое другое.
LOCATION:ДонЭкспоцентр, КВЦ (Россия, Ростов-на-Дону)
END:VEVENT
END:VCALENDAR