BEGIN:VCALENDAR
VERSION:2.0
PRODID:-//TotalExpo.ru v1.0//EN
BEGIN:VEVENT
DTSTAMP:20260422T120000
DTSTART:20260422T070000Z
DTEND:20260424T140000Z
SUMMARY:KITF | Туризм и путешествия 2026 (Алма-Ата, Казахстан)
DESCRIPTION:Выставка KITF - ведущая в Казахстане, профессиональная b2b площадка для встречи представителей туристической отрасли. <br>  Постоянные участники: туроператоры и турагентства; авиакомпании и авиа агентства; национальные и региональные туристические организации; объекты размещения; лечебно-оздоровительные и медицинские центры; разработчики и поставщики IT-технологий в туризме; представители недвижимости за рубежом; представители сопутствующих услуг и сервисов для туриндустрии. 
LOCATION:Атакент, КЦДС (Казахстан, Алма-Ата)
END:VEVENT
END:VCALENDAR