BEGIN:VCALENDAR
VERSION:2.0
PRODID:-//TotalExpo.ru v1.0//EN
BEGIN:VEVENT
DTSTAMP:20260416T120000
DTSTART:20260416T070000Z
DTEND:20260417T140000Z
SUMMARY:Образование. Карьера. Бизнес 2026 (Ростов-на-Дону, Россия)
DESCRIPTION:Ежегодный Донской образовательный фестиваль «Образование. Карьера. Бизнес» – одно из наиболее значимых и крупномасштабных мероприятий, которое проводится в Южном федеральном округе. <br/> Цель фестиваля - содействие совершенствованию системы образования, презентация новых образовательных и управленческих технологий, инновационных педагогических проектов. За 23 года своей активной работы фестиваль создал эффективную площадку для взаимодействия субъектов образовательных систем и сферы производства, обмена ценностями с целью удовлетворения многообразных образовательных потребностей. 
LOCATION:Россия - Моя история (Россия, Ростов-на-Дону)
END:VEVENT
END:VCALENDAR