BEGIN:VCALENDAR
VERSION:2.0
PRODID:-//TotalExpo.ru v1.0//EN
BEGIN:VEVENT
DTSTAMP:20260921T120000
DTSTART:20260921T070000Z
DTEND:20260924T140000Z
SUMMARY:Tube China 2026 (Шанхай, Китай)
DESCRIPTION:Специализированная выставка труб. Производство, готовая продукция, применение - является крупнейшей в данной области и проводится параллельно с другой, равной ей по значению - Wire China - Проволока и кабель. <br/> На выставке будут представлены: Трубные материалы, трубы, комплектующие, оборудование для изготовления труб, инструмент и вспомогательная техника, оборудование, бывшее в употреблении, регулирующая и измерительная техника, техника безопасности, специализированная литература и многое другое.
LOCATION:Shanghai New International Expo Centre (Китай, Шанхай)
END:VEVENT
END:VCALENDAR