BEGIN:VCALENDAR
VERSION:2.0
PRODID:-//TotalExpo.ru v1.0//EN
BEGIN:VEVENT
DTSTAMP:20260421T120000
DTSTART:20260421T070000Z
DTEND:20260424T140000Z
SUMMARY:CHINAPLAS 2026 (Шанхай, Китай)
DESCRIPTION:Китайская международная выставка пластмассовой и каучуковой промышленности по масштабу 3-я в мире и 1-я в Азии. Выставка всегда предлагает новую продукцию, дает инновационный толчок, знакомит многочисленных пользователей с высокой технологией и новаторством отрасли. 
LOCATION:National Exhibition and Convention Center (NEСC) (Китай, Шанхай)
END:VEVENT
END:VCALENDAR