BEGIN:VCALENDAR
VERSION:2.0
PRODID:-//TotalExpo.ru v1.0//EN
BEGIN:VEVENT
DTSTAMP:20260902T120000
DTSTART:20260902T070000Z
DTEND:20260904T140000Z
SUMMARY:BeautyEurasia 2026 (Стамбул, Турция)
DESCRIPTION:Выставка продуктов для красоты. Косметика и парфюмерия, салоны красоты, парикмахерские, упаковка, частные торговые марки, фитнес и СПА.
LOCATION:Istanbul Expo Center (IFM) (Турция, Стамбул)
END:VEVENT
END:VCALENDAR