BEGIN:VCALENDAR
VERSION:2.0
PRODID:-//TotalExpo.ru v1.0//EN
BEGIN:VEVENT
DTSTAMP:20271020T120000
DTSTART:20271020T070000Z
DTEND:20271023T140000Z
SUMMARY:ISK-SODEX ISTANBUL 2027 (Стамбул, Турция)
DESCRIPTION:Международная выставка, посвященная кондиционированию, отоплению, вентиляции и системам охлаждения.
LOCATION:Istanbul Expo Center (IFM) (Турция, Стамбул)
END:VEVENT
END:VCALENDAR