BEGIN:VCALENDAR
VERSION:2.0
PRODID:-//TotalExpo.ru v1.0//EN
BEGIN:VEVENT
DTSTAMP:20261014T120000
DTSTART:20261014T070000Z
DTEND:20261017T140000Z
SUMMARY:IBAKTECH 2026 (Стамбул, Турция)
DESCRIPTION:Выставка оборудования и технологий изготовления хлебобулочных и кондитерских изделий, мороженого и шоколада.
LOCATION:Istanbul Expo Center (IFM) (Турция, Стамбул)
END:VEVENT
END:VCALENDAR