BEGIN:VCALENDAR
VERSION:2.0
PRODID:-//TotalExpo.ru v1.0//EN
BEGIN:VEVENT
DTSTAMP:20261112T120000
DTSTART:20261112T070000Z
DTEND:20261114T140000Z
SUMMARY:HOSTECH by Tusid 2026 (Стамбул, Турция)
DESCRIPTION:Международная выставка гостеприимства, ресторанного дела, технологий и оборудования для гостиниц, отелей и организаций общественного питания. Ожидается более 30 000 посетителей и около 400 экспонентов.
LOCATION:Tuyap Fair Convention and Congress Center  (Турция, Стамбул)
END:VEVENT
END:VCALENDAR